BEGIN:VCALENDAR
VERSION:2.0
PRODID:-//ChamberMaster//Event Calendar 2.0//EN
METHOD:PUBLISH
X-PUBLISHED-TTL:P3D
REFRESH-INTERVAL:P3D
CALSCALE:GREGORIAN
BEGIN:VEVENT
DTSTART:20240418T160000Z
DTEND:20240418T170000Z
X-MICROSOFT-CDO-ALLDAYEVENT:FALSE
SUMMARY:Canceled: Maximize Your Membership
DESCRIPTION:Are you a new member? Need a refresher on what your membership entails?  Join us on April 18 for our Maximize Your Membership workshop!\n\n\n\nThis workshop will cover the basics of your membership\, including events\, workshops and benefits of being a Jackson County Chamber member!  Plus\, enjoy networking with other members before the presentation starts.
X-ALT-DESC;FMTTYPE=text/html:Are you a new member? Need a refresher on what your membership entails? &nbsp\;Join us on April 18 for our Maximize Your Membership workshop!<br />\n<br />\nThis workshop will cover the basics of your membership\, including events\, workshops and benefits of being a Jackson County Chamber member! &nbsp\;Plus\, enjoy networking with other members before the presentation starts.
LOCATION:Jackson County Chamber 105 S Chestnut St Seymour
UID:e.1199.12094
SEQUENCE:3
DTSTAMP:20260421T131111Z
URL:http://business.seymourchamber.com/events/details/canceled-maximize-your-membership-12094
END:VEVENT

END:VCALENDAR
