BEGIN:VCALENDAR
VERSION:2.0
PRODID:-//ChamberMaster//Event Calendar 2.0//EN
METHOD:PUBLISH
X-PUBLISHED-TTL:P3D
REFRESH-INTERVAL:P3D
CALSCALE:GREGORIAN
BEGIN:VEVENT
DTSTART:20231116T160000Z
DTEND:20231116T170000Z
X-MICROSOFT-CDO-ALLDAYEVENT:FALSE
SUMMARY:Chamber Board Meeting
DESCRIPTION:Chamber Board meeting
X-ALT-DESC;FMTTYPE=text/html:Chamber Board meeting
LOCATION:Chamber
UID:e.1199.12047
SEQUENCE:3
DTSTAMP:20260421T214621Z
URL:http://business.seymourchamber.com/events/details/chamber-board-meeting-12047
END:VEVENT

END:VCALENDAR
