BEGIN:VCALENDAR
VERSION:2.0
PRODID:-//ChamberMaster//Event Calendar 2.0//EN
METHOD:PUBLISH
X-PUBLISHED-TTL:P3D
REFRESH-INTERVAL:P3D
CALSCALE:GREGORIAN
BEGIN:VEVENT
DTSTART:20130213T140000Z
DTEND:20130213T210000Z
X-MICROSOFT-CDO-ALLDAYEVENT:FALSE
SUMMARY:Konica Minolta Open House
DESCRIPTION:This is an open house for all members to see how Konica Minolta can help refine your business process.
X-ALT-DESC;FMTTYPE=text/html:This is an open house for all members to see how Konica Minolta can help refine your business process.
LOCATION:8910 Purdue Rd\, Indianapolis\, IN 46268
UID:e.1199.1341
SEQUENCE:3
DTSTAMP:20260426T042956Z
URL:http://business.seymourchamber.com/events/details/konica-minolta-open-house-02-13-2013-1341
END:VEVENT

END:VCALENDAR
