BEGIN:VCALENDAR
VERSION:2.0
PRODID:-//ChamberMaster//Event Calendar 2.0//EN
METHOD:PUBLISH
X-PUBLISHED-TTL:P3D
REFRESH-INTERVAL:P3D
CALSCALE:GREGORIAN
BEGIN:VEVENT
DTSTART:20210112T140000Z
DTEND:20210112T180000Z
X-MICROSOFT-CDO-ALLDAYEVENT:FALSE
SUMMARY:Professional Headshots with Kevin Bell
DESCRIPTION:Professional headshots with Kevin Bell Photography\n\nJanuary 12\, 2021\, 9 a.m. - 1 p.m.\n\nClick the register button to select the time that best suits your schedule.\n\n\n\n$40 for members\n\n$50 for non members\n\n10% discount for 5 or more\n\n20% discount for 10 or more\n\nKevin Bell will invoice.\n\n15 minutes per session
X-ALT-DESC;FMTTYPE=text/html:<u>Professional headshots with Kevin Bell Photography</u><br />\nJanuary 12\, 2021\, 9 a.m. - 1 p.m.<br />\nClick the register button to select the time that best suits your schedule.<br />\n<br />\n$40 for members<br />\n$50 for non members<br />\n10% discount for 5 or more<br />\n20% discount for 10 or more<br />\nKevin Bell will invoice.<br />\n15 minutes per session
LOCATION:
UID:e.1199.10781
SEQUENCE:3
DTSTAMP:20260423T111251Z
URL:http://business.seymourchamber.com/events/details/professional-headshots-with-kevin-bell-10781
END:VEVENT

END:VCALENDAR
