BEGIN:VCALENDAR
VERSION:2.0
PRODID:-//ChamberMaster//Event Calendar 2.0//EN
METHOD:PUBLISH
X-PUBLISHED-TTL:P3D
REFRESH-INTERVAL:P3D
CALSCALE:GREGORIAN
BEGIN:VEVENT
DTSTART;VALUE=DATE:20200327
DTEND;VALUE=DATE:20200328
TRANSP:TRANSPARENT
X-MICROSOFT-CDO-ALLDAYEVENT:TRUE
SUMMARY:2020 Farmers Market Deadline
DESCRIPTION:Interested in being a vendor at the Seymour Area Farmer's Market in the 2020 season? Register by March 27 to avoid a $25 late registration fee.
X-ALT-DESC;FMTTYPE=text/html:Interested in being a vendor at the Seymour Area Farmer&#39\;s Market in the 2020 season? Register by March 27 to avoid a $25 late registration fee.
LOCATION:
UID:e.1199.10404
SEQUENCE:3
DTSTAMP:20260425T031334Z
URL:https://business.seymourchamber.com/events/details/2020-farmers-market-deadline-10404
END:VEVENT

END:VCALENDAR
