BEGIN:VCALENDAR
VERSION:2.0
PRODID:-//ChamberMaster//Event Calendar 2.0//EN
METHOD:PUBLISH
X-PUBLISHED-TTL:P3D
REFRESH-INTERVAL:P3D
CALSCALE:GREGORIAN
BEGIN:VEVENT
DTSTART:20200309T200000Z
DTEND:20200309T210000Z
X-MICROSOFT-CDO-ALLDAYEVENT:FALSE
SUMMARY:**Cancelled - Executive Committee Meeting
DESCRIPTION:Executive Committee Meeting
X-ALT-DESC;FMTTYPE=text/html:Executive Committee Meeting
LOCATION:Chamber office 105 S. Chestnut St.
UID:e.1199.9718
SEQUENCE:3
DTSTAMP:20260425T001909Z
URL:https://business.seymourchamber.com/events/details/cancelled-executive-committee-meeting-9718
END:VEVENT

END:VCALENDAR
