BEGIN:VCALENDAR
VERSION:2.0
PRODID:-//ChamberMaster//Event Calendar 2.0//EN
METHOD:PUBLISH
X-PUBLISHED-TTL:P3D
REFRESH-INTERVAL:P3D
CALSCALE:GREGORIAN
BEGIN:VEVENT
DTSTART:20200210T210000Z
DTEND:20200210T220000Z
X-MICROSOFT-CDO-ALLDAYEVENT:FALSE
SUMMARY:Executive Committee Meeting
DESCRIPTION:Executive Committee Meeting
X-ALT-DESC;FMTTYPE=text/html:Executive Committee Meeting
LOCATION:Chamber office 105 S. Chestnut St.
UID:e.1199.9717
SEQUENCE:3
DTSTAMP:20260425T001918Z
URL:https://business.seymourchamber.com/events/details/executive-committee-meeting-02-10-2020-9717
END:VEVENT

END:VCALENDAR
