BEGIN:VCALENDAR
VERSION:2.0
PRODID:-//ChamberMaster//Event Calendar 2.0//EN
METHOD:PUBLISH
X-PUBLISHED-TTL:P3D
REFRESH-INTERVAL:P3D
CALSCALE:GREGORIAN
BEGIN:VEVENT
DTSTART:20200304T200000Z
DTEND:20200304T220000Z
X-MICROSOFT-CDO-ALLDAYEVENT:FALSE
SUMMARY:Free Legal Aid Clinic
DESCRIPTION:Legal Aid is holding a free legal clinic in Jackson County on Wednesday\, March 4th\, 3-5 p.m. at the Montgomery Elsner & Pardieck. Please share with those you know would benefit from the clinic.
X-ALT-DESC;FMTTYPE=text/html:Legal Aid is holding a free legal clinic in Jackson County on Wednesday\, March 4th\, 3-5 p.m. at the Montgomery Elsner &amp\; Pardieck. Please share with those you know would benefit from the clinic.
LOCATION:Montgomery Elsner Pardieck 308 W Second St. Seymour
UID:e.1199.10415
SEQUENCE:3
DTSTAMP:20260425T031357Z
URL:https://business.seymourchamber.com/events/details/free-legal-aid-clinic-10415
END:VEVENT

END:VCALENDAR
