BEGIN:VCALENDAR
VERSION:2.0
PRODID:-//ChamberMaster//Event Calendar 2.0//EN
METHOD:PUBLISH
X-PUBLISHED-TTL:P3D
REFRESH-INTERVAL:P3D
CALSCALE:GREGORIAN
BEGIN:VEVENT
DTSTART:20200305T213000Z
DTEND:20200305T223000Z
X-MICROSOFT-CDO-ALLDAYEVENT:FALSE
SUMMARY:Going Places: India
DESCRIPTION:Kids are welcome to step into a different country and experience a new culture each month through stories\, crafts\, music\, snacks\, and other activities. This month features India! Grades K-5.
X-ALT-DESC;FMTTYPE=text/html:Kids are welcome to step into a different country and experience a new culture each month through stories\, crafts\, music\, snacks\, and other activities. This month features India! Grades K-5.
LOCATION:Jackson County Public Library - Seymour
UID:e.1199.10409
SEQUENCE:3
DTSTAMP:20260425T031103Z
URL:https://business.seymourchamber.com/events/details/going-places-india-10409
END:VEVENT

END:VCALENDAR
