BEGIN:VCALENDAR
VERSION:2.0
PRODID:-//ChamberMaster//Event Calendar 2.0//EN
METHOD:PUBLISH
X-PUBLISHED-TTL:P3D
REFRESH-INTERVAL:P3D
CALSCALE:GREGORIAN
BEGIN:VEVENT
DTSTART:20200307T160000Z
DTEND:20200307T163000Z
X-MICROSOFT-CDO-ALLDAYEVENT:FALSE
SUMMARY:Kids in Motion
DESCRIPTION:A body in motion tends to stay in motion\, so get up and get moving! Practice problem solving\, listening skills\, and teamwork in a fun way using games and activities. Kids will exercise their bodies AND their minds! Grades K-5.
X-ALT-DESC;FMTTYPE=text/html:A body in motion tends to stay in motion\, so get up and get moving! Practice problem solving\, listening skills\, and teamwork in a fun way using games and activities. Kids will exercise their bodies AND their minds! Grades K-5.
LOCATION:Jackson County Public Library - Seymour
UID:e.1199.10411
SEQUENCE:3
DTSTAMP:20260425T031324Z
URL:https://business.seymourchamber.com/events/details/kids-in-motion-03-07-2020-10411
END:VEVENT

END:VCALENDAR
