BEGIN:VCALENDAR
VERSION:2.0
PRODID:-//ChamberMaster//Event Calendar 2.0//EN
METHOD:PUBLISH
X-PUBLISHED-TTL:P3D
REFRESH-INTERVAL:P3D
CALSCALE:GREGORIAN
BEGIN:VEVENT
DTSTART:20200314T143000Z
DTEND:20200314T151500Z
X-MICROSOFT-CDO-ALLDAYEVENT:FALSE
SUMMARY:Milk & Cookies Storytime
DESCRIPTION:Enjoy rhymes\, songs\, and a story before snacking on cookies and milk. Open to families with children
X-ALT-DESC;FMTTYPE=text/html:Enjoy rhymes\, songs\, and a story before snacking on cookies and milk. Open to families with children
LOCATION:Jackson County Public Library - Seymour
UID:e.1199.10416
SEQUENCE:3
DTSTAMP:20260425T031358Z
URL:https://business.seymourchamber.com/events/details/milk-cookies-storytime-03-14-2020-10416
END:VEVENT

END:VCALENDAR
