BEGIN:VCALENDAR
VERSION:2.0
PRODID:-//ChamberMaster//Event Calendar 2.0//EN
METHOD:PUBLISH
X-PUBLISHED-TTL:P3D
REFRESH-INTERVAL:P3D
CALSCALE:GREGORIAN
BEGIN:VEVENT
DTSTART:20200326T210000Z
DTEND:20200326T230000Z
X-MICROSOFT-CDO-ALLDAYEVENT:FALSE
SUMMARY:POSTPONED: After Hours at Prestigious Affairs featuring The FLOWER Cart
DESCRIPTION:Join Bobby G as he celebrates the expansion of The FLOWER Cart at Prestigious Affairs! Bobby G now has retail floral space at Prestigious Affairs for special occasions\, or to enjoy every day.\n\nThis event is open to the public and will offer appetizers and drinks (for those over 21 years old).
X-ALT-DESC;FMTTYPE=text/html:<p>Join Bobby G as he celebrates the expansion of The FLOWER Cart at Prestigious Affairs! Bobby G now has retail floral space at Prestigious Affairs for special occasions\, or to enjoy every day.</p>\n\n<p>This event is open to the public and will offer appetizers and drinks (for those over 21 years old).</p>\n
LOCATION:Prestigious Affairs / The FLOWER Cart 108 S. Chestnut St.
UID:e.1199.10448
SEQUENCE:3
DTSTAMP:20260425T003311Z
URL:https://business.seymourchamber.com/events/details/postponed-after-hours-at-prestigious-affairs-featuring-the-flower-cart-10448
END:VEVENT

END:VCALENDAR
