BEGIN:VCALENDAR
VERSION:2.0
PRODID:-//ChamberMaster//Event Calendar 2.0//EN
METHOD:PUBLISH
X-PUBLISHED-TTL:P3D
REFRESH-INTERVAL:P3D
CALSCALE:GREGORIAN
BEGIN:VEVENT
DTSTART:20200323T220000Z
DTEND:20200323T230000Z
X-MICROSOFT-CDO-ALLDAYEVENT:FALSE
SUMMARY:POSTPONED: Feeding the Community - Coalition Meeting
DESCRIPTION:Please join the Social Concern Project Group with Leadership Jackson County in bringing our community together to fight hunger in Jackson County.  Together we can fight food insecurities for those in need and work together for a better tomorrow for our families.
X-ALT-DESC;FMTTYPE=text/html:<span style="font-family:arial\;"><span style="caret-color: rgb(34\, 34\, 34)\; color: rgb(34\, 34\, 34)\; font-size: small\;">Please join the Social Concern Project Group with Leadership Jackson County in bringing our community together to fight hunger in Jackson County.&nbsp\; Together we can fight food insecurities for those in need and work together&nbsp\;for a better tomorrow for our families.</span></span>
LOCATION:Seymour Chamber of Commerce
UID:e.1199.10450
SEQUENCE:3
DTSTAMP:20260425T002034Z
URL:https://business.seymourchamber.com/events/details/postponed-feeding-the-community-coalition-meeting-10450
END:VEVENT

END:VCALENDAR
