BEGIN:VCALENDAR
VERSION:2.0
PRODID:-//ChamberMaster//Event Calendar 2.0//EN
METHOD:PUBLISH
X-PUBLISHED-TTL:P3D
REFRESH-INTERVAL:P3D
CALSCALE:GREGORIAN
BEGIN:VEVENT
DTSTART:20200309T203000Z
DTEND:20200309T213000Z
X-MICROSOFT-CDO-ALLDAYEVENT:FALSE
SUMMARY:Sew Crafty
DESCRIPTION:Gain experience\, both hand sewing and using a sewing machine\, while completing personal craft projects. Grades 4-8
X-ALT-DESC;FMTTYPE=text/html:Gain experience\, both hand sewing and using a sewing machine\, while completing personal craft projects. Grades 4-8
LOCATION:Jackson County Public Library
UID:e.1199.10413
SEQUENCE:3
DTSTAMP:20260425T031123Z
URL:https://business.seymourchamber.com/events/details/sew-crafty-10413
END:VEVENT

END:VCALENDAR
